BEGIN:VCALENDAR
VERSION:2.0
PRODID:-//Sihtasutus Iga Laps on Andekas - ECPv6.15.20//NONSGML v1.0//EN
CALSCALE:GREGORIAN
METHOD:PUBLISH
X-WR-CALNAME:Sihtasutus Iga Laps on Andekas
X-ORIGINAL-URL:https://www.haridusfond.ee
X-WR-CALDESC:Events for Sihtasutus Iga Laps on Andekas
REFRESH-INTERVAL;VALUE=DURATION:PT1H
X-Robots-Tag:noindex
X-PUBLISHED-TTL:PT1H
BEGIN:VTIMEZONE
TZID:UTC
BEGIN:STANDARD
TZOFFSETFROM:+0000
TZOFFSETTO:+0000
TZNAME:UTC
DTSTART:20240101T000000
END:STANDARD
END:VTIMEZONE
BEGIN:VEVENT
DTSTART;TZID=UTC:20251021T140000
DTEND;TZID=UTC:20251021T153000
DTSTAMP:20260420T100621
CREATED:20251007T075911Z
LAST-MODIFIED:20251007T085943Z
UID:1308-1761055200-1761060600@www.haridusfond.ee
SUMMARY:Noppeõppe põhikooliülene rakendamine – võimalus annete arendamiseks koolipäeva sees!
DESCRIPTION:Räägime noppeõppe rakendamise mudelist põhikooli tasandil nii õppekorralduse\, -sisu\, õppijate ja õpetajate motivatsiooni toetamise kui ka noppeõppe tulemuslikkuse mõõtmise aspektist lähtuvalt. \nOsalejad saavad visualiseerimise tööriista abil kohandada noppeõppe rakendamise mudelit oma kooli konteksti. \nLisainfo: https://haridusfestival.tartu.ee/programm/ \nKorraldaja: SA Iga Laps on Andekas
URL:https://www.haridusfond.ee/event/noppeoppe-pohikooliulene-rakendamine-voimalus-annete-arendamiseks-koolipaeva-sees/
LOCATION:SädeTERA\, klassiruum\, Staadioni 73\, Tartu\, Estonia
ATTACH;FMTTYPE=image/jpeg:https://www.haridusfond.ee/wp-content/uploads/2025/10/Tartu-Haridusfestival.jpg
END:VEVENT
BEGIN:VEVENT
DTSTART;VALUE=DATE:20251022
DTEND;VALUE=DATE:20251023
DTSTAMP:20260420T100621
CREATED:20250819T085657Z
LAST-MODIFIED:20251020T062436Z
UID:1198-1761091200-1761177599@www.haridusfond.ee
SUMMARY:Seminar: Noppeõppe rakendamine põhikoolis – mis? miks? kuidas?
DESCRIPTION:Seminaril jagame kogemusi noppeõppe rakendamisega seonduvast nii õppekorralduse\, -sisu\, õppijate ja õpetajate motivatsiooni toetamise kui ka noppeõppe tulemuslikkuse mõõtmise aspektist lähtuvalt. \nMis on noppeõppe? Noppeõpe on lühiajaline grupeerimise meede diferentseeritud õppetegevuse pakkumiseks õpilastele\, kes teatud ainevaldkondades oma teadmiste\, oskuste ja/või õppimisvõime poolest edestavad õppekava ja eakaaslasi. \nKogemusi jagavad: \n\nViljandi Kesklinna Kooli matemaatikaõpetajad ja noppeõppe rakendajad\nSädeTERA arendusjuht ja noppeõppe uurija ja praktik Karin Konksi\nSA Iga Laps on Andekas tegevjuht Eneli Rimpel ja nõukogu esinaine Kaija Kits\n\nSeminar on praktiline\, võimalik on osaleda matemaatika noppeõppe näidistunnis. \nOodatud on osalema 3-liikmelised põhikoolide meeskonnad (koolijuht\, juhtkonna liige\, matemaatikaõpetaja) \nREGISTREERIMINE LÕPPENUD! Vajalik on kooli meeskonna registreerimine hiljemalt 17. oktoobriks. \nPÄEVAKAVA \n10.45 Kogunemine (Uueveski tee 1\, II korruse saal) \n11.00-11.30 Sissejuhatus ja ÕPPIJA ANDEKUSE ARENDAJA aunimetuse üleandmine \n11.30-12.30 Noppeõppe rakendamise mudeli tutvustus (SA Iga Laps on Andekas tegevjuht Eneli Rimpel ja nõukogu esinaine Kaija Kits \n12.30 LÕUNA (kaetud on kohvilaud) \n13.15 -13.55 Matemaatika noppeõppe näidistund \n14.00 -14.40 Matemaatika noppeõppe näidistund \n14.45 -15.00 Seminari kokkuvõte \n  \nAeg ja koht: 22. oktoobril kell 11.00-15.00 Viljandi Kesklinna Koolis \nLisainfo: eneli.rimpel@haridusfond.ee \nSeminar on TASUTA!
URL:https://www.haridusfond.ee/event/seminar-noppeoppe-pohikooliulene-rakendamine-mismikskuidas/
LOCATION:Viljandi Kesklinna Kool\, Uueveski tee 1\, Viljandi\, Estonia
ATTACH;FMTTYPE=image/jpeg:https://www.haridusfond.ee/wp-content/uploads/2025/08/22.10.25-scaled.jpg
ORGANIZER;CN="SA Iga Laps on Andekas":MAILTO:eneli.rimpel@haridusfond.ee
END:VEVENT
BEGIN:VEVENT
DTSTART;VALUE=DATE:20251023
DTEND;VALUE=DATE:20251025
DTSTAMP:20260420T100621
CREATED:20250819T085842Z
LAST-MODIFIED:20251020T063324Z
UID:1203-1761177600-1761350399@www.haridusfond.ee
SUMMARY:Noppeõppe väljaõpe põhikooli matemaatikaõpetajatele I moodul
DESCRIPTION:AJAKAVA \n23. oktoober 2025 \n9.45. Kogunemine\n10.00 – 12.00 Andekuspedagoogika ja noppeõpe. Teoreetiline ülevaade\n12.00 Lõuna – kaetud on kohvilaud\n13.00 – 15.00 Noppetunni ülesehitus ja põhimõtted \n24. oktoober 2025 \n9.45. Kogunemine\, kooliastmete kaupa jagunemine\n10.00 – 12.00 Praktikum: noppetunni loomine kooliastmest lähtuvalt\n12.00 Lõuna – kaetud on kohvilaud\n13.00 – 14.00 Praktikum: noppetunni loomine kooliastmest lähtuvalt\n14.00 – 15.00 I mooduli kokkuvõte \nKoolitajad: \nKarin Konksi on SädeTERA arendusjuht ja klassiõpetaja. Laste tugevuste ja huvide toetamine on olnud õpetajana tema südameasjaks pikka aega. Andekuspedagoogika kui kõikide laste jaoks kasuliku ja arendava haridusliku lähenemise avastas ta enda jaoks\, kui otsis võimalusi\, kuidas leida tegevust oma klassi võimekatele\, kuid ainetunnis igavlema kippuvatele õpilastele. Esimesed katsetused noppeõppega tegi 2018. aastal magistritöö raames tegevusuuringuna. Sealt edasi on ta jätkanud andekuspedagoogika uurimist\, rakendamist ja arendamist. Karin koolitab andekuspedagoogika teemadel õpetajaid ning tegutseb Tartu Ülikoolis õppejõu ja juhendajana. \nAnneli Luik on Viljandi Kesklinna Kooli matemaatikaõpetaja ja noppeõppe rakendaja II ja III kooliastmes. Aastaid on ta püüdnud leida aega nii tundides kui ka tundide väliselt nutikate ja kiirete õpilaste aktiveerimiseks ja arendamiseks. Head viisi nii õpetaja kui õpilaste jaoks päriselt ei leidnudki. Noppeõppe rakendamise raames on ta saanud praktiliselt läbi teha kõik ägedad ideed\, mis aastate jooksul kuhjunud olid\, kuid milleks kunagi aega ei jätkunud. \nEva Ool on Viljandi Kesklinna Kooli matemaatikaõpetaja ja noppeõppe rakendaja II ja III kooliastmes. Tema eesmärk on kujundada õppijast loov tegutseja\, kes oskab ja julgeb „kastist välja“ mõelda. Ta väärtustab aktiivseid õppemeetodeid ja mõtleva klassiruumi põhimõtteid\, kus õpilased saavad ise otsida\, katsetada ja üksteisega oma mõtteid jagada. Noppeõpe on andnud talle võimaluse märgata ja toetada koolipäeva siseselt neid õpilasi\, kellel on matemaatikas suurem huvi ja võimekus\, samuti on pakkunud suurt rõõmu tavatunnist teistsuguste ülesannete loomine ja lahendamine. \n  \nTeine moodul toimub 25.-26. veebruar 2026. \nMaksumus kahe mooduli peale kokku: 100€ õpetaja. \nREGISTREERIMINE LÕPPENUD! Vajalik on registreerimine hiljemalt 17. oktoobriks. \nLisainfo: eneli.rimpel@haridusfond.ee \nVäljaõppe koostööpartnerid: SädeTERA ja Viljandi Kesklinna Kool
URL:https://www.haridusfond.ee/event/noppeoppe-valjaope-pohikooli-matemaatika-opetajatele-i-moodul/
LOCATION:Viljandi Kesklinna Kool\, Uueveski tee 1\, Viljandi\, Estonia
ATTACH;FMTTYPE=image/jpeg:https://www.haridusfond.ee/wp-content/uploads/2025/08/23.10.25-scaled.jpg
ORGANIZER;CN="SA Iga Laps on Andekas":MAILTO:eneli.rimpel@haridusfond.ee
END:VEVENT
END:VCALENDAR