BEGIN:VCALENDAR
VERSION:2.0
PRODID:-//Sihtasutus Iga Laps on Andekas - ECPv6.15.20//NONSGML v1.0//EN
CALSCALE:GREGORIAN
METHOD:PUBLISH
X-ORIGINAL-URL:https://www.haridusfond.ee
X-WR-CALDESC:Events for Sihtasutus Iga Laps on Andekas
REFRESH-INTERVAL;VALUE=DURATION:PT1H
X-Robots-Tag:noindex
X-PUBLISHED-TTL:PT1H
BEGIN:VTIMEZONE
TZID:UTC
BEGIN:STANDARD
TZOFFSETFROM:+0000
TZOFFSETTO:+0000
TZNAME:UTC
DTSTART:20240101T000000
END:STANDARD
END:VTIMEZONE
BEGIN:VEVENT
DTSTART;TZID=UTC:20250809T123000
DTEND;TZID=UTC:20250809T140000
DTSTAMP:20260422T115254
CREATED:20250619T170355Z
LAST-MODIFIED:20250805T054145Z
UID:1172-1754742600-1754748000@www.haridusfond.ee
SUMMARY:Arvamusfestivali paneelarutelu ”Õppija tugevustel põhinev haridus - miks ja kuidas?"
DESCRIPTION:Panelistid:\nMarjeta Venno – Haridus- ja Teadusministeerium\nKaija Kits – koolijuht\nPriit Kessa – ettevõtja\nKarin Konksi – õpetaja ja õppejõud\nMaria-Rahamägi Suits – Skaala Impact \nModeraator: SädeTERA ja PeeduTERA koolijuht Kersti Kaplinski. \nArutelu lühikirjeldus\nRahvusvaheline kogemus näitab\, et huvide ja tugevuste arvestamine õppetöös ning koolipäeva paindlik korraldus toetavad õpilaste arengut märkimisväärselt. Kuidas sobituks tugevustel põhinev haridus ja andekuspedagoogika Eesti kaasavasse haridussüsteemi? Mis juhtuks\, kui koolid pööraksid õpiraskuste tuvastamise ja korrigeerimise kõrval suuremat rõhku õpilaste tugevuste märkamisele ja arendamisele? Arutelus toome välja esimesed sammud\, mida saab ära teha avalik-\, era- ning kolmas sektor\, et suunata koolis fookus iga õpilase tugevustele ning seeläbi muuta koolipäev tähenduslikuks kõigi õppijate jaoks. \nKorraldaja: SA Iga Laps on Andekas \nAla nr 21: Noortele \nFacebook Event: Õppija tugevustel põhinev haridus – miks ja kuidas?
URL:https://www.haridusfond.ee/event/arvamusfestivali-paneelarutelu-oppija-tugevustel-pohinev-haridus-miks-ja-kuidas/
LOCATION:Paide Vallimägi
ATTACH;FMTTYPE=image/png:https://www.haridusfond.ee/wp-content/uploads/2025/06/Screenshot-2025-08-04-at-15.01.17.png
END:VEVENT
BEGIN:VEVENT
DTSTART;VALUE=DATE:20250820
DTEND;VALUE=DATE:20250821
DTSTAMP:20260422T115254
CREATED:20250819T110726Z
LAST-MODIFIED:20250819T135347Z
UID:1217-1755648000-1755734399@www.haridusfond.ee
SUMMARY:SA Iga Laps on Andekas esinaine ja tegevjuht osalevad Eest Vabariigi iseseisvuse taastamise aastapäeva vastuvõtul.
DESCRIPTION:Korraldaja: Vabariigi Presideni Katselei
URL:https://www.haridusfond.ee/event/sa-iga-laps-on-andekas-esinaine-ja-tegevjuht-osalevad-eest-vabariigi-iseseisvuse-taastamise-aastapaeva-vastuvotul/
ATTACH;FMTTYPE=image/jpeg:https://www.haridusfond.ee/wp-content/uploads/2025/08/Kevin_Kohjus_006_07102024-scaled.jpg
END:VEVENT
END:VCALENDAR