BEGIN:VCALENDAR
VERSION:2.0
PRODID:-//Sihtasutus Iga Laps on Andekas - ECPv6.15.20//NONSGML v1.0//EN
CALSCALE:GREGORIAN
METHOD:PUBLISH
X-WR-CALNAME:Sihtasutus Iga Laps on Andekas
X-ORIGINAL-URL:https://haridusfond.ee
X-WR-CALDESC:Events for Sihtasutus Iga Laps on Andekas
REFRESH-INTERVAL;VALUE=DURATION:PT1H
X-Robots-Tag:noindex
X-PUBLISHED-TTL:PT1H
BEGIN:VTIMEZONE
TZID:UTC
BEGIN:STANDARD
TZOFFSETFROM:+0000
TZOFFSETTO:+0000
TZNAME:UTC
DTSTART:20240101T000000
END:STANDARD
END:VTIMEZONE
BEGIN:VEVENT
DTSTART;VALUE=DATE:20250516
DTEND;VALUE=DATE:20250517
DTSTAMP:20260422T170938
CREATED:20250331T082655Z
LAST-MODIFIED:20250403T040539Z
UID:1107-1747353600-1747439999@haridusfond.ee
SUMMARY:Noppeõppe väljaõpe põhikooli matemaatika õpetajatele
DESCRIPTION:Osalejad: Tõrva Kool\, Võru Kesklinna Kool\, Imavere Kool\, Puurmani Mõisakool\, Tartu Ülikooli kaasprofessor Merle Taimalu\, Taru Ülikooli haridusinnovatsiooni õppekava magistrant \n  \nKoolitajad: noppeõppe uurika ja praktik Karin Konksi ning Viljandi Kesklinna Kooli õpetajad
URL:https://haridusfond.ee/event/noppeoppe-valjaope-pohikooli-matemaatika-opetajatele/
LOCATION:Viljandi Kesklinna Kool\, Uueveski tee 1\, Viljandi\, Estonia
ATTACH;FMTTYPE=image/jpeg:https://haridusfond.ee/wp-content/uploads/2025/03/Kevin_Kohjus_047_19032025-scaled.jpg
END:VEVENT
BEGIN:VEVENT
DTSTART;VALUE=DATE:20250520
DTEND;VALUE=DATE:20250521
DTSTAMP:20260422T170938
CREATED:20250410T084659Z
LAST-MODIFIED:20250410T084727Z
UID:1140-1747699200-1747785599@haridusfond.ee
SUMMARY:Noppeõppe süsteemne rakendamine üldhariduskoolis
DESCRIPTION:Osalejad: Jõhvi vallavanem Maris Toomel\, koolijuhid\, hariduskoperi esindajad
URL:https://haridusfond.ee/event/noppeoppe-susteemne-rakendamine-uldhariduskoolis-2/
LOCATION:Viljandi Kesklinna Kool\, Uueveski tee 1\, Viljandi\, Estonia
ATTACH;FMTTYPE=image/jpeg:https://haridusfond.ee/wp-content/uploads/2025/04/Kevin_Kohjus_017_18032025-scaled.jpg
END:VEVENT
BEGIN:VEVENT
DTSTART;VALUE=DATE:20250529
DTEND;VALUE=DATE:20250530
DTSTAMP:20260422T170938
CREATED:20250509T081753Z
LAST-MODIFIED:20250509T081753Z
UID:1144-1748476800-1748563199@haridusfond.ee
SUMMARY:Õppija andekuse süsteemne märkamine ja toetamine läbi diferentseeriva õppekorralduse
DESCRIPTION:Osalejad: Türi Põhikool
URL:https://haridusfond.ee/event/oppija-andekuse-susteemne-markamine-ja-toetamine-labi-diferentseeriva-oppekorralduse-2/
LOCATION:Viljandi Kesklinna Kool\, Uueveski tee 1\, Viljandi\, Estonia
ATTACH;FMTTYPE=image/jpeg:https://haridusfond.ee/wp-content/uploads/2025/05/Kevin_Kohjus_001_19032025-scaled.jpg
END:VEVENT
END:VCALENDAR