BEGIN:VCALENDAR
VERSION:2.0
PRODID:-//Sihtasutus Iga Laps on Andekas - ECPv6.15.20//NONSGML v1.0//EN
CALSCALE:GREGORIAN
METHOD:PUBLISH
X-WR-CALNAME:Sihtasutus Iga Laps on Andekas
X-ORIGINAL-URL:https://www.haridusfond.ee
X-WR-CALDESC:Events for Sihtasutus Iga Laps on Andekas
REFRESH-INTERVAL;VALUE=DURATION:PT1H
X-Robots-Tag:noindex
X-PUBLISHED-TTL:PT1H
BEGIN:VTIMEZONE
TZID:UTC
BEGIN:STANDARD
TZOFFSETFROM:+0000
TZOFFSETTO:+0000
TZNAME:UTC
DTSTART:20240101T000000
END:STANDARD
END:VTIMEZONE
BEGIN:VEVENT
DTSTART;VALUE=DATE:20250404
DTEND;VALUE=DATE:20250405
DTSTAMP:20260422T183545
CREATED:20250410T084614Z
LAST-MODIFIED:20250410T084614Z
UID:1137-1743724800-1743811199@www.haridusfond.ee
SUMMARY:Haridus- ja teadusminister Kristina Kallase ja Sihtasutus Iga Laps on Andekas kohtumine
DESCRIPTION:Teema: Õppijast lähtuva õppe rakendamine üldhariduskoolis
URL:https://www.haridusfond.ee/event/haridus-ja-teadusminister-kristina-kallase-ja-sihtasutus-iga-laps-on-andekas-kohtumine/
LOCATION:Viljandi Kesklinna Kool\, Uueveski tee 1\, Viljandi\, Estonia
ATTACH;FMTTYPE=image/jpeg:https://www.haridusfond.ee/wp-content/uploads/2025/04/Kevin_Kohjus_001_06042025.jpg
END:VEVENT
BEGIN:VEVENT
DTSTART;VALUE=DATE:20250411
DTEND;VALUE=DATE:20250412
DTSTAMP:20260422T183545
CREATED:20250310T124130Z
LAST-MODIFIED:20250403T040430Z
UID:1084-1744329600-1744415999@www.haridusfond.ee
SUMMARY:Noppeõppe süsteemne rakendamine ülhariduskoolis
DESCRIPTION:Osalejad: Orissaare Gümnaasium\, \nJärveküla Kool\, \nTartu Ülikooli teaduskool
URL:https://www.haridusfond.ee/event/noppeoppe-susteemne-rakendamine-ulhariduskoolis-5/
LOCATION:Viljandi Kesklinna Kool\, Uueveski tee 1\, Viljandi\, Estonia
ATTACH;FMTTYPE=image/jpeg:https://www.haridusfond.ee/wp-content/uploads/2025/03/Kevin_Kohjus_040_31012025-scaled.jpg
END:VEVENT
END:VCALENDAR