BEGIN:VCALENDAR
VERSION:2.0
PRODID:-//Sihtasutus Iga Laps on Andekas - ECPv6.15.20//NONSGML v1.0//EN
CALSCALE:GREGORIAN
METHOD:PUBLISH
X-WR-CALNAME:Sihtasutus Iga Laps on Andekas
X-ORIGINAL-URL:https://www.haridusfond.ee
X-WR-CALDESC:Events for Sihtasutus Iga Laps on Andekas
REFRESH-INTERVAL;VALUE=DURATION:PT1H
X-Robots-Tag:noindex
X-PUBLISHED-TTL:PT1H
BEGIN:VTIMEZONE
TZID:UTC
BEGIN:STANDARD
TZOFFSETFROM:+0000
TZOFFSETTO:+0000
TZNAME:UTC
DTSTART:20240101T000000
END:STANDARD
END:VTIMEZONE
BEGIN:VEVENT
DTSTART;TZID=UTC:20250204T150000
DTEND;TZID=UTC:20250204T170000
DTSTAMP:20260422T213400
CREATED:20250129T114805Z
LAST-MODIFIED:20250129T133904Z
UID:941-1738681200-1738688400@www.haridusfond.ee
SUMMARY:Andekuse märkamise ja toetamise juhendmaterjali algversiooni tutvustav aruteluseminar
DESCRIPTION:
URL:https://www.haridusfond.ee/event/andekuse-markamise-ja-toetamise-juhendmaterjali-algversiooni-tutvustav-aruteluseminar/
LOCATION:Tartu Ülikool\, Ülikooli 18\, Tartu\, Estonia
ATTACH;FMTTYPE=image/jpeg:https://haridusfond.ee/wp-content/uploads/2025/01/Kevin_Kohjus_052_11112024-scaled.jpg
END:VEVENT
BEGIN:VEVENT
DTSTART;VALUE=DATE:20250214
DTEND;VALUE=DATE:20250215
DTSTAMP:20260422T213400
CREATED:20250129T114701Z
LAST-MODIFIED:20250129T130806Z
UID:939-1739491200-1739577599@www.haridusfond.ee
SUMMARY:Noppeõppe süsteemne rakendamine üldhariduskoolis
DESCRIPTION:Osalejad: Puurmani Mõisakool
URL:https://www.haridusfond.ee/event/noppeoppe-susteemne-rakendamine-uldhariduskoolis/
LOCATION:Viljandi Kesklinna Kool\, Uueveski tee 1\, Viljandi\, Estonia
ATTACH;FMTTYPE=image/jpeg:https://haridusfond.ee/wp-content/uploads/2025/01/Kevin_Kohjus_033_11112024-scaled.jpg
END:VEVENT
BEGIN:VEVENT
DTSTART;VALUE=DATE:20250224
DTEND;VALUE=DATE:20250225
DTSTAMP:20260422T213400
CREATED:20250127T144551Z
LAST-MODIFIED:20250226T051632Z
UID:909-1740355200-1740441599@www.haridusfond.ee
SUMMARY:SA Iga Laps on Andekas tegevjuht on kutsutud Eesti Vabariigi aastapäeva pidulikul vastuvõtule
DESCRIPTION:Korraldaja: Vabariigi Presideni Katselei
URL:https://www.haridusfond.ee/event/sihtasutus-iga-laps-on-andekas-esindaja-osalemine-eesti-vabariigi-aastapaeva-pidulikul-vastuvotul/
LOCATION:Estonia teatri- ja kontserdimaja\, Estonia pst 4\, Tallinn\, Estonia
ATTACH;FMTTYPE=image/jpeg:https://haridusfond.ee/wp-content/uploads/2025/01/Vasakult-Viljandi-Kesklinna-kooli-juht-Kaija-Kits_-Eesti-laste-ja-noorte-annete-arendamise-patroon-presidendi-abikaasa-Sirje-Karis-Viljandi-Hariduse-Arengufondi-tegevjuht-Eneli-Rimpel.jpeg
END:VEVENT
END:VCALENDAR