BEGIN:VCALENDAR
VERSION:2.0
PRODID:-//Sihtasutus Iga Laps on Andekas - ECPv6.15.20//NONSGML v1.0//EN
CALSCALE:GREGORIAN
METHOD:PUBLISH
X-WR-CALNAME:Sihtasutus Iga Laps on Andekas
X-ORIGINAL-URL:https://www.haridusfond.ee
X-WR-CALDESC:Events for Sihtasutus Iga Laps on Andekas
REFRESH-INTERVAL;VALUE=DURATION:PT1H
X-Robots-Tag:noindex
X-PUBLISHED-TTL:PT1H
BEGIN:VTIMEZONE
TZID:UTC
BEGIN:STANDARD
TZOFFSETFROM:+0000
TZOFFSETTO:+0000
TZNAME:UTC
DTSTART:20240101T000000
END:STANDARD
END:VTIMEZONE
BEGIN:VEVENT
DTSTART;VALUE=DATE:20250113
DTEND;VALUE=DATE:20250114
DTSTAMP:20260422T230741
CREATED:20250127T144130Z
LAST-MODIFIED:20250127T150832Z
UID:903-1736726400-1736812799@www.haridusfond.ee
SUMMARY:Noppeõppe süsteemne rakendamine ülhariduskoolis
DESCRIPTION:Osalejad: Türi Põhikool
URL:https://www.haridusfond.ee/event/noppeoppe-susteemne-rakendamine-ulhariduskoolis/
LOCATION:Viljandi Kesklinna Kool\, Uueveski tee 1\, Viljandi\, Estonia
END:VEVENT
BEGIN:VEVENT
DTSTART;VALUE=DATE:20250116
DTEND;VALUE=DATE:20250117
DTSTAMP:20260422T230741
CREATED:20250127T144202Z
LAST-MODIFIED:20250127T150847Z
UID:905-1736985600-1737071999@www.haridusfond.ee
SUMMARY:Õppija andekuse süsteemne märkamine ja toetamine üldhariduskoolis
DESCRIPTION:Osalejad: Kesklinna Koolid üle Eesti
URL:https://www.haridusfond.ee/event/oppija-andekuse-susteemne-markamine-ja-toetamine-uldhariduskoolis-4/
LOCATION:Viljandi Kesklinna Kool\, Uueveski tee 1\, Viljandi\, Estonia
END:VEVENT
BEGIN:VEVENT
DTSTART;VALUE=DATE:20250131
DTEND;VALUE=DATE:20250201
DTSTAMP:20260422T230741
CREATED:20250127T144241Z
LAST-MODIFIED:20250129T130633Z
UID:907-1738281600-1738367999@www.haridusfond.ee
SUMMARY:Noppeõppe süsteemne rakendamine üldhariduskoolis
DESCRIPTION:Osalejad: Tõrva ja Valga koolid
URL:https://www.haridusfond.ee/event/noppeoppe-susteemne-rakendamine-ulhariduskoolis-2/
LOCATION:Viljandi Kesklinna Kool\, Uueveski tee 1\, Viljandi\, Estonia
ATTACH;FMTTYPE=image/jpeg:https://haridusfond.ee/wp-content/uploads/2025/01/Kevin_Kohjus_001_03122024-scaled.jpg
END:VEVENT
END:VCALENDAR