BEGIN:VCALENDAR
VERSION:2.0
PRODID:-//Sihtasutus Iga Laps on Andekas - ECPv6.15.20//NONSGML v1.0//EN
CALSCALE:GREGORIAN
METHOD:PUBLISH
X-ORIGINAL-URL:https://www.haridusfond.ee
X-WR-CALDESC:Events for Sihtasutus Iga Laps on Andekas
REFRESH-INTERVAL;VALUE=DURATION:PT1H
X-Robots-Tag:noindex
X-PUBLISHED-TTL:PT1H
BEGIN:VTIMEZONE
TZID:UTC
BEGIN:STANDARD
TZOFFSETFROM:+0000
TZOFFSETTO:+0000
TZNAME:UTC
DTSTART:20230101T000000
END:STANDARD
END:VTIMEZONE
BEGIN:VEVENT
DTSTART;VALUE=DATE:20241111
DTEND;VALUE=DATE:20241112
DTSTAMP:20260423T021759
CREATED:20250127T143408Z
LAST-MODIFIED:20250127T143408Z
UID:897-1731283200-1731369599@www.haridusfond.ee
SUMMARY:Õppija andekuse süsteemne märkamine ja toetamine üldhariduskoolis
DESCRIPTION:Osalejad: Saku Gümnaasiumi meeskond
URL:https://www.haridusfond.ee/event/oppija-andekuse-susteemne-markamine-ja-toetamine-uldhariduskoolis-2/
LOCATION:Viljandi Kesklinna Kool\, Uueveski tee 1\, Viljandi\, Estonia
END:VEVENT
END:VCALENDAR