BEGIN:VCALENDAR
VERSION:2.0
PRODID:-//Sihtasutus Iga Laps on Andekas - ECPv6.15.20//NONSGML v1.0//EN
CALSCALE:GREGORIAN
METHOD:PUBLISH
X-ORIGINAL-URL:https://www.haridusfond.ee
X-WR-CALDESC:Events for Sihtasutus Iga Laps on Andekas
REFRESH-INTERVAL;VALUE=DURATION:PT1H
X-Robots-Tag:noindex
X-PUBLISHED-TTL:PT1H
BEGIN:VTIMEZONE
TZID:UTC
BEGIN:STANDARD
TZOFFSETFROM:+0000
TZOFFSETTO:+0000
TZNAME:UTC
DTSTART:20260101T000000
END:STANDARD
END:VTIMEZONE
BEGIN:VEVENT
DTSTART;VALUE=DATE:20270225
DTEND;VALUE=DATE:20270227
DTSTAMP:20260423T040151
CREATED:20260218T143416Z
LAST-MODIFIED:20260325T091316Z
UID:1528-1803513600-1803686399@www.haridusfond.ee
SUMMARY:Noppeõppe väljaõpe põhikooli matemaatika õpetajatele II moodul
DESCRIPTION:NB! Väljaõppe II moodulile on oodatud osalema I mooduli läbinud õpetajad. \nVäljaõppes osalejatele väljastatakse koolitustõend. \nLisainfo: eneli.rimpel@haridusfond.ee \nKorraldaja: SA Iga Laps on Andekas \nVäljaõppe koostööpartner: Viljandi Kesklinna Kool
URL:https://www.haridusfond.ee/event/noppeoppe-valjaope-pohikooli-matemaatika-opetajatele-ii-moodul-2/
LOCATION:Viljandi Kesklinna Kool\, Uueveski tee 1\, Viljandi\, Estonia
ATTACH;FMTTYPE=image/jpeg:https://haridusfond.ee/wp-content/uploads/2026/02/Valjaope-2-scaled.jpg
END:VEVENT
END:VCALENDAR